BEGIN:VCALENDAR
VERSION:2.0
PRODID:-//Porečka i Pulska biskupija - ECPv6.15.20//NONSGML v1.0//EN
CALSCALE:GREGORIAN
METHOD:PUBLISH
X-ORIGINAL-URL:https://www.biskupija-porecko-pulska.hr
X-WR-CALDESC:Događaji za Porečka i Pulska biskupija
REFRESH-INTERVAL;VALUE=DURATION:PT1H
X-Robots-Tag:noindex
X-PUBLISHED-TTL:PT1H
BEGIN:VTIMEZONE
TZID:Europe/Zagreb
BEGIN:DAYLIGHT
TZOFFSETFROM:+0100
TZOFFSETTO:+0200
TZNAME:CEST
DTSTART:20250330T010000
END:DAYLIGHT
BEGIN:STANDARD
TZOFFSETFROM:+0200
TZOFFSETTO:+0100
TZNAME:CET
DTSTART:20251026T010000
END:STANDARD
BEGIN:DAYLIGHT
TZOFFSETFROM:+0100
TZOFFSETTO:+0200
TZNAME:CEST
DTSTART:20260329T010000
END:DAYLIGHT
BEGIN:STANDARD
TZOFFSETFROM:+0200
TZOFFSETTO:+0100
TZNAME:CET
DTSTART:20261025T010000
END:STANDARD
BEGIN:DAYLIGHT
TZOFFSETFROM:+0100
TZOFFSETTO:+0200
TZNAME:CEST
DTSTART:20270328T010000
END:DAYLIGHT
BEGIN:STANDARD
TZOFFSETFROM:+0200
TZOFFSETTO:+0100
TZNAME:CET
DTSTART:20271031T010000
END:STANDARD
END:VTIMEZONE
BEGIN:VEVENT
DTSTART;TZID=Europe/Zagreb:20260228T090000
DTEND;TZID=Europe/Zagreb:20260228T140000
DTSTAMP:20260426T060956
CREATED:20260215T174039Z
LAST-MODIFIED:20260215T174039Z
UID:68999-1772269200-1772287200@www.biskupija-porecko-pulska.hr
SUMMARY:Susret članova župnih Caritasa Porečke i Pulske biskupije
DESCRIPTION:U subotu 28. veljače\, s početkom u 9.30 u Pazinskom kolegiju\, održat će se korizmeni susret članova župnih Caritasa Porečke i Pulske biskupije.
URL:https://www.biskupija-porecko-pulska.hr/dogadanje/susret-clanova-zupnih-caritasa-porecke-i-pulske-biskupije-3/
END:VEVENT
END:VCALENDAR